BEGIN:VCALENDAR
VERSION:2.0
PRODID:-//El Kombi - ECPv6.15.13//NONSGML v1.0//EN
CALSCALE:GREGORIAN
METHOD:PUBLISH
X-WR-CALNAME:El Kombi
X-ORIGINAL-URL:https://elkombi.nl
X-WR-CALDESC:Evenementen voor El Kombi
REFRESH-INTERVAL;VALUE=DURATION:PT1H
X-Robots-Tag:noindex
X-PUBLISHED-TTL:PT1H
BEGIN:VTIMEZONE
TZID:Europe/Amsterdam
BEGIN:DAYLIGHT
TZOFFSETFROM:+0100
TZOFFSETTO:+0200
TZNAME:CEST
DTSTART:20200329T010000
END:DAYLIGHT
BEGIN:STANDARD
TZOFFSETFROM:+0200
TZOFFSETTO:+0100
TZNAME:CET
DTSTART:20201025T010000
END:STANDARD
BEGIN:DAYLIGHT
TZOFFSETFROM:+0100
TZOFFSETTO:+0200
TZNAME:CEST
DTSTART:20210328T010000
END:DAYLIGHT
BEGIN:STANDARD
TZOFFSETFROM:+0200
TZOFFSETTO:+0100
TZNAME:CET
DTSTART:20211031T010000
END:STANDARD
BEGIN:DAYLIGHT
TZOFFSETFROM:+0100
TZOFFSETTO:+0200
TZNAME:CEST
DTSTART:20220327T010000
END:DAYLIGHT
BEGIN:STANDARD
TZOFFSETFROM:+0200
TZOFFSETTO:+0100
TZNAME:CET
DTSTART:20221030T010000
END:STANDARD
BEGIN:DAYLIGHT
TZOFFSETFROM:+0100
TZOFFSETTO:+0200
TZNAME:CEST
DTSTART:20230326T010000
END:DAYLIGHT
BEGIN:STANDARD
TZOFFSETFROM:+0200
TZOFFSETTO:+0100
TZNAME:CET
DTSTART:20231029T010000
END:STANDARD
END:VTIMEZONE
BEGIN:VEVENT
DTSTART;VALUE=DATE:20220207
DTEND;VALUE=DATE:20220214
DTSTAMP:20260421T151045
CREATED:20220105T184219Z
LAST-MODIFIED:20220202T083106Z
UID:10000649-1644192000-1644796799@elkombi.nl
SUMMARY:Lever je je mobieltje in?
DESCRIPTION:Je nieuwe mag maar ik bedoel je oude 🙂\nVan 7 tot 12 februari is het Week van de Circulaire Economie. Natuurlijk besteden we daar op onze manier aandacht aan\, want grondstoffen & producten hergebruiken dát is de toekomst. En dus dacht ik…wat heb ik nou in huis liggen wat voor mij geen waarde heeft maar wat nog wel waarde heeft 🙂\noude mobieltjes!  \n\n\nWaarde omdat er waardevolle grondstoffen zoals ijzer\, aluminium en nikkel inzitten die hergebruikt kunnen worden. En waarde omdat de opbrengst daarvan aan een goed doel geschonken kan worden. Er zijn tal van goede doelen en ik heb hier de Voedselbank uitgekozen. \n\n\nWil je ook je kapotte\, outdated en onder het stof liggende maar oh zo waardevolle mobieltje doneren? Breng deze dan in de maand februari bij me langs bij Co-Workingspace Urban Nomads Club op Laat 47-49 in Alkmaar. \nBijbehorende opladers mogen er ook bij. En je mag alles ook meenemen als je met een van mijn andere events of tours meedoet in februari. Zoals bijvoorbeeld de Kledingruil bij Vers Eten en Drinken. \nWoon je niet in de buurt of lukt het niet in februari? Lever ze dan zelf in bij een van de WeCycle of Eeko.
URL:https://elkombi.nl/event/mobieltjes-voor-de-voedselbank/
LOCATION:El Kombi Office @ Urban Nomads Club Alkmaar\, Laat 47-49\, Alkmaar\, 1811 EB
CATEGORIES:workshop,zero waste
ATTACH;FMTTYPE=image/jpeg:https://elkombi.nl/wp-content/uploads/2022/01/IMG_5686-scaled.jpg
END:VEVENT
BEGIN:VEVENT
DTSTART;TZID=Europe/Amsterdam:20210320T100000
DTEND;TZID=Europe/Amsterdam:20210320T133000
DTSTAMP:20260421T151045
CREATED:20210312T124943Z
LAST-MODIFIED:20210314T100942Z
UID:10000526-1616234400-1616247000@elkombi.nl
SUMMARY:Trashwalk met afvalmonster-avontuur
DESCRIPTION:Oooh we hebben nu toch weer wat leuks voor tijdens de trashwalk….\nhet-grijp-de-afvalmonsters-en-maak-de-wereld-mooier-avontuur! \nHet afvalmonster-avontuur is een samenwerking tussen Soekky Stories en El Kombi en rolt zaterdag echt vers van de digitale pers. Je gaat op pad met afvalknijper\, afvalzak en je smartphone. Zorg dat je telefoon een volle batterij heeft want tijdens het lopen volg je op je telefoon de avonturen van wereldreiziger en expeditiebeide Ole Gustav Peddelson. Hij vertelt over zijn avonturen\, stelt vragen en geeft je een aantal leuke opdrachten. Jij bent lekker in de buitenlucht bezig en ondertussen wordt de wereld weer een stukje schoner en mooier. Nu al een win win! \nEven wat puntjes:\nEr kan met 2 personen of 1 huishouden samen gelopen worden.\nKinderen lopen altijd onder begeleiding van hun ouder/verzorger.\nOmdat we nog niet in een groep mogen lopen\, maar ik jullie zo graag allemaal zie en spreek blijf ik deze keer bij de startlocatie. Handig want daar kun jij een knijper en afvalzak lenen 🙂 Ook verzorg ik weer koffie\, thee en limo. Neem je weer je eigen herbruikbare beker mee? \nDeelname aan de trashwalk\, het GPS-avontuur en koffie\, thee & limo is gratis. \nHet afvalmonster-avontuur volgen is écht superleuk maar uiteraard optioneel. Je kunt tijdens het trashwalken ook lekker kletsen met je wandelmaatje\, mij foto’s van grappige vondsten appen of met je hoofd in de wolken lopen. \nAanmelden is een must en kan door even naar beneden te scrollen en een ticket te reserveren. \nStartlocatie: co-workingspace Urban Nomads Club op Laat 49\, Alkmaar.\nStarttijd: tussen 10.00 en 12.00 uur.\nEindtijd: 13.30 uur.
URL:https://elkombi.nl/event/trashwalk-met-gps-kinderspel/
LOCATION:El Kombi Office @ Urban Nomads Club Alkmaar\, Laat 47-49\, Alkmaar\, 1811 EB
CATEGORIES:clean up,trashwalk
ORGANIZER;CN="el kombi":MAILTO:nanda@elkombi.nl
END:VEVENT
END:VCALENDAR