BEGIN:VCALENDAR
VERSION:2.0
PRODID:-//El Kombi - ECPv6.15.13//NONSGML v1.0//EN
CALSCALE:GREGORIAN
METHOD:PUBLISH
X-WR-CALNAME:El Kombi
X-ORIGINAL-URL:https://elkombi.nl
X-WR-CALDESC:Evenementen voor El Kombi
REFRESH-INTERVAL;VALUE=DURATION:PT1H
X-Robots-Tag:noindex
X-PUBLISHED-TTL:PT1H
BEGIN:VTIMEZONE
TZID:Europe/Amsterdam
BEGIN:DAYLIGHT
TZOFFSETFROM:+0100
TZOFFSETTO:+0200
TZNAME:CEST
DTSTART:20180325T010000
END:DAYLIGHT
BEGIN:STANDARD
TZOFFSETFROM:+0200
TZOFFSETTO:+0100
TZNAME:CET
DTSTART:20181028T010000
END:STANDARD
BEGIN:DAYLIGHT
TZOFFSETFROM:+0100
TZOFFSETTO:+0200
TZNAME:CEST
DTSTART:20190331T010000
END:DAYLIGHT
BEGIN:STANDARD
TZOFFSETFROM:+0200
TZOFFSETTO:+0100
TZNAME:CET
DTSTART:20191027T010000
END:STANDARD
BEGIN:DAYLIGHT
TZOFFSETFROM:+0100
TZOFFSETTO:+0200
TZNAME:CEST
DTSTART:20200329T010000
END:DAYLIGHT
BEGIN:STANDARD
TZOFFSETFROM:+0200
TZOFFSETTO:+0100
TZNAME:CET
DTSTART:20201025T010000
END:STANDARD
END:VTIMEZONE
BEGIN:VEVENT
DTSTART;TZID=Europe/Amsterdam:20190216T103000
DTEND;TZID=Europe/Amsterdam:20190216T123000
DTSTAMP:20260423T023939
CREATED:20190213T144115Z
LAST-MODIFIED:20190221T081301Z
UID:10000512-1550313000-1550320200@elkombi.nl
SUMMARY:One Island One Voice Clean Up
DESCRIPTION:Zaterdag 16 februari vindt voor de 3e keer Bali’s Biggest Clean Up plaats. Het event wordt georganiseerd door One Island One Voice\, in 2018 mobiliseerden ze maar liefst 20.000 mensen op 120 locaties en werd er 65 ton plastic opgehaald! \nVorig jaar hielp ik mee in Canggu\, Bali. Dit jaar neem ik hun slogan “anytime anywhere” extreem letterlijk door een clean up in Alkmaar te houden! \nWe are all in this together\, right? Dus…doe mee!\nWe gaan zoals altijd met onze boards het water op voor een Sup it UP\, maar je kunt ook mee trashwalken; hoog en droog op de kant 🙂 \nZaterdag 16 februari 2019\, 10.30 uur.\nVerzamelen vanaf 10.15 uur op de Baansingel.\nAanmelden is verplicht\, deelname is gratis (donatie is welkom).\nAanmelden bij Nanda via 06 2480 5655.\n#held! \nPS: kledingadvies voor de sup it up helden:\nTrek geen kleding aan van wol of ander materiaal dat bij nat worden zwaar wordt. Neopreen / wetsuit is ideaal maar sportkleding (laagjes laagjes laagjes!) en sportschoenen volstaan ook.\nWil je een wetsuit huren\, meld het dan bij het aanmelden en geef je maat door. Tijdstip voor passen & meten in overleg. Kosten €7\,50 p.p.
URL:https://elkombi.nl/event/one-island-one-voice-clean-up/
LOCATION:Alkmaar
CATEGORIES:clean up,sup it up,trashwalk
END:VEVENT
END:VCALENDAR